BEGIN:VCALENDAR
VERSION:2.0
PRODID:-//DPSG Welver Stamm Maximilian Kolbe - ECPv6.15.20//NONSGML v1.0//EN
CALSCALE:GREGORIAN
METHOD:PUBLISH
X-ORIGINAL-URL:https://dpsg-welver.de
X-WR-CALDESC:Veranstaltungen für DPSG Welver Stamm Maximilian Kolbe
REFRESH-INTERVAL;VALUE=DURATION:PT1H
X-Robots-Tag:noindex
X-PUBLISHED-TTL:PT1H
BEGIN:VTIMEZONE
TZID:Europe/Berlin
BEGIN:DAYLIGHT
TZOFFSETFROM:+0100
TZOFFSETTO:+0200
TZNAME:CEST
DTSTART:20250330T010000
END:DAYLIGHT
BEGIN:STANDARD
TZOFFSETFROM:+0200
TZOFFSETTO:+0100
TZNAME:CET
DTSTART:20251026T010000
END:STANDARD
BEGIN:DAYLIGHT
TZOFFSETFROM:+0100
TZOFFSETTO:+0200
TZNAME:CEST
DTSTART:20260329T010000
END:DAYLIGHT
BEGIN:STANDARD
TZOFFSETFROM:+0200
TZOFFSETTO:+0100
TZNAME:CET
DTSTART:20261025T010000
END:STANDARD
BEGIN:DAYLIGHT
TZOFFSETFROM:+0100
TZOFFSETTO:+0200
TZNAME:CEST
DTSTART:20270328T010000
END:DAYLIGHT
BEGIN:STANDARD
TZOFFSETFROM:+0200
TZOFFSETTO:+0100
TZNAME:CET
DTSTART:20271031T010000
END:STANDARD
END:VTIMEZONE
BEGIN:VEVENT
DTSTART;TZID=Europe/Berlin:20260513T200000
DTEND;TZID=Europe/Berlin:20260513T220000
DTSTAMP:20260421T143108
CREATED:20251113T102810Z
LAST-MODIFIED:20251113T102810Z
UID:4044-1778702400-1778709600@dpsg-welver.de
SUMMARY:Leiterrunde
DESCRIPTION:Im BH
URL:https://dpsg-welver.de/?tribe_events=leiterrunde-40
END:VEVENT
BEGIN:VEVENT
DTSTART;VALUE=DATE:20260522
DTEND;VALUE=DATE:20260526
DTSTAMP:20260421T143108
CREATED:20260115T170053Z
LAST-MODIFIED:20260115T170053Z
UID:4055-1779408000-1779753599@dpsg-welver.de
SUMMARY:Pfingsten Westernohe
DESCRIPTION:Camp Westernohe
URL:https://dpsg-welver.de/?tribe_events=pfingsten-westernohe
END:VEVENT
BEGIN:VEVENT
DTSTART;TZID=Europe/Berlin:20260610T200000
DTEND;TZID=Europe/Berlin:20260610T220000
DTSTAMP:20260421T143108
CREATED:20251113T102849Z
LAST-MODIFIED:20251113T102849Z
UID:4046-1781121600-1781128800@dpsg-welver.de
SUMMARY:Leiterrunde
DESCRIPTION:Im BH
URL:https://dpsg-welver.de/?tribe_events=leiterrunde-41
END:VEVENT
BEGIN:VEVENT
DTSTART;VALUE=DATE:20260725
DTEND;VALUE=DATE:20260809
DTSTAMP:20260421T143108
CREATED:20250924T065843Z
LAST-MODIFIED:20251113T102003Z
UID:4029-1784937600-1786233599@dpsg-welver.de
SUMMARY:Sommerlager 2026
DESCRIPTION:Das Sommerlager 2026 ist in der Zeit vom 25.07. bis 08.08.2026 geplant. \nDas Sommerlager findet in Kalkar am Nierderrhein auf dem Zeltplatz \nInternationaler Pfadfinder-Treffpunkt statt. \nWeitere Informationen erfolgen als Elternbrief .
URL:https://dpsg-welver.de/?tribe_events=sommerlager-2026
END:VEVENT
BEGIN:VEVENT
DTSTART;VALUE=DATE:20260911
DTEND;VALUE=DATE:20260914
DTSTAMP:20260421T143108
CREATED:20260115T170154Z
LAST-MODIFIED:20260115T170154Z
UID:4057-1789084800-1789343999@dpsg-welver.de
SUMMARY:Rovercamp
DESCRIPTION:Rüthen
URL:https://dpsg-welver.de/?tribe_events=rovercamp
END:VEVENT
BEGIN:VEVENT
DTSTART;TZID=Europe/Berlin:20261214T180000
DTEND;TZID=Europe/Berlin:20261214T190000
DTSTAMP:20260421T143108
CREATED:20260115T170649Z
LAST-MODIFIED:20260115T170649Z
UID:4059-1797271200-1797274800@dpsg-welver.de
SUMMARY:Friedenslicht 2026
DESCRIPTION:Aussendung des Friedenslichtes Pfarrheim Scheidingen
URL:https://dpsg-welver.de/?tribe_events=friedenslicht-2026
END:VEVENT
END:VCALENDAR